BEGIN:VCALENDAR
VERSION:2.0
PRODID:-//We Are All - ECPv5.3.2.1//NONSGML v1.0//EN
CALSCALE:GREGORIAN
METHOD:PUBLISH
X-WR-CALNAME:We Are All
X-ORIGINAL-URL:https://weareall.com.au
X-WR-CALDESC:Events for We Are All
BEGIN:VTIMEZONE
TZID:Australia/Sydney
BEGIN:STANDARD
TZOFFSETFROM:+1100
TZOFFSETTO:+1000
TZNAME:AEST
DTSTART:20210403T160000
END:STANDARD
BEGIN:DAYLIGHT
TZOFFSETFROM:+1000
TZOFFSETTO:+1100
TZNAME:AEDT
DTSTART:20211002T160000
END:DAYLIGHT
END:VTIMEZONE
BEGIN:VEVENT
DTSTART;TZID=Australia/Sydney:20210314T090000
DTEND;TZID=Australia/Sydney:20210314T130000
DTSTAMP:20210225T025016
CREATED:20210118T041040Z
LAST-MODIFIED:20210118T061914Z
UID:138-1615712400-1615726800@weareall.com.au
SUMMARY:Reflexology Masterclass - 1
DESCRIPTION:An introduction to the art and science of Reflexology. \nThe feet are comparatively small in relation to the rest of the body\, but they contain so much magic! The whole body rests on them and they are able to dance and move our entire physical form. \nOur feet are more important than we think: illness can be revealed in the feet and alert us to potentially serious issues. \nReflexology uses thumb and finger pressure on specific points on the feet that correspond to all part of the body. \nI have been teaching and practising the art and science of reflexology for 30 years and I’ve found it helps to re-balance the body physically\, emotionally and energetically\, clears congestion\, restores vital energy and warns us of any potential issues. \nReflexology is an exchange from one person to another. Treatments are relaxing and energising for clients and you can easily integrate Reflexology with other modalities you practice and into your lifestyle generally. \nThe anatomy of the foot is covered and the map of the foot is energetically colour coded. \nPlenty of hands-on experience and comprehensive notes to read before and after the day to deepen and integrate your learning. \nA Certificate of Attendance is given\, to that you can claim CPE points with your Professional Association. \nJoin the private Facebook group where you can share ideas\, questions and experiences with other like-minded individuals. Then\, be a part of an ongoing flourishing like-minded community. \n***An exciting bonus training will be integrated into the day! You will learn how to unlock the master spring in the body\, by releasing the toes\, ankle joints\, calves and hips to align the body. These simple adjustments will help arch pain\, plantar fasciitis\, heel spurs\, ankle oedema/pain\, shine splints\, calf cramps\, knee pain or joint degeneration\, iliotibial band syndrome\, poor circulation\, varicose veins\, hip pain and joint degeneration***
URL:https://weareall.com.au/event/reflexology-masterclass-1/
LOCATION:Yoga Space Fitzroy\, Enter via\, Level 1\, 227 Brunswick Street\, Fishers Ln\,\, Fitzroy\, Victoria\, 3065\, Australia
ATTACH;FMTTYPE=image/jpeg:https://weareall.com.au/wp-content/uploads/2020/01/Inner-Clarity-207-scaled.jpg
END:VEVENT
END:VCALENDAR